BEGIN:VCALENDAR
VERSION:2.0
PRODID:-//hacksw/handcal//NONSGML v1.0//EN
BEGIN:VEVENT
SUMMARY:TOURNOI DE PETANQUE INTERNE US ARON COMPLET
UID:2b620023-3347-4cc0-a7a8-096ebc140079
DTSTART:20260425T083000Z
DTEND:20260425T153000Z
LOCATION:Localisation   
CATEGORIES:Festif
STATUS:
URL;VALUE=URI:https://www.us-aron.com/evenements/2026/04/25/tournoi-de-petanque-interne-us-aron-complet-2436769
END:VEVENT
END:VCALENDAR
