BEGIN:VCALENDAR
VERSION:2.0
PRODID:-//hacksw/handcal//NONSGML v1.0//EN
BEGIN:VEVENT
SUMMARY:AL AHUILLE / ENT VETERANS ARON MARCILLE COUPE
UID:6a71b323-4025-47df-bf97-9f6f0445ec8a
DTSTART:20260426T073000Z
DTEND:20260426T220000Z
LOCATION:Localisation   
CATEGORIES:Sportif
STATUS:
URL;VALUE=URI:https://www.us-aron.com/evenements/2026/04/26/al-ahuille-ent-veterans-aron-marcille-coupe-2439679
END:VEVENT
END:VCALENDAR
