BEGIN:VCALENDAR
VERSION:2.0
PRODID:-//hacksw/handcal//NONSGML v1.0//EN
BEGIN:VEVENT
SUMMARY:ARON A / FC CHATEAU GONTIER B
UID:cd2bc35b-82ff-42b4-a80f-8fe3473a2532
DTSTART:20260426T130000Z
DTEND:20260426T220000Z
LOCATION:Localisation   
CATEGORIES:Sportif
STATUS:
URL;VALUE=URI:https://www.us-aron.com/evenements/2026/04/26/aron-a-fc-chateau-gontier-b-2436702
END:VEVENT
END:VCALENDAR
