BEGIN:VCALENDAR
VERSION:2.0
PRODID:-//hacksw/handcal//NONSGML v1.0//EN
BEGIN:VEVENT
SUMMARY:ARON C / EVRON C
UID:2609c5b6-3ef5-4ec3-a1d2-0b1919785d74
DTSTART:20260426T103000Z
DTEND:20260426T220000Z
LOCATION:Localisation   
CATEGORIES:Sportif
STATUS:
URL;VALUE=URI:https://www.us-aron.com/evenements/2026/04/26/aron-c-evron-c-2436705
END:VEVENT
END:VCALENDAR
