BEGIN:VCALENDAR
VERSION:2.0
PRODID:-//hacksw/handcal//NONSGML v1.0//EN
BEGIN:VEVENT
SUMMARY:FC AISNES C / ARON D
UID:9d9c5e23-aecd-4efd-bfd2-7d06bbbd172d
DTSTART:20260426T110000Z
DTEND:20260426T220000Z
LOCATION:Localisation   
CATEGORIES:Sportif
STATUS:
URL;VALUE=URI:https://www.us-aron.com/evenements/2026/04/26/fc-aisnes-c-aron-d-2436706
END:VEVENT
END:VCALENDAR
