BEGIN:VCALENDAR
VERSION:2.0
PRODID:-//hacksw/handcal//NONSGML v1.0//EN
BEGIN:VEVENT
SUMMARY:MOULAY SPORT / ARON B
UID:1bde64df-c233-40cc-8376-a8a727b35c5b
DTSTART:20260426T130000Z
DTEND:20260426T220000Z
LOCATION:Localisation   
CATEGORIES:Sportif
STATUS:
URL;VALUE=URI:https://www.us-aron.com/evenements/2026/04/26/moulay-sport-aron-b-2436703
END:VEVENT
END:VCALENDAR
