BEGIN:VCALENDAR
VERSION:2.0
PRODID:-//hacksw/handcal//NONSGML v1.0//EN
BEGIN:VEVENT
SUMMARY:ST GEORGES BUTTAVENT V / ENT VETERANS MARCILLE ARON reporte
UID:9a176de2-2812-40f6-a3d9-08ca33a55632
DTSTART:20260426T073000Z
DTEND:20260426T220000Z
LOCATION:Localisation   
CATEGORIES:Sportif
STATUS:
URL;VALUE=URI:https://www.us-aron.com/evenements/2026/04/26/st-georges-buttavent-v-ent-veterans-marcille-aron-reporte-2436708
END:VEVENT
END:VCALENDAR
