BEGIN:VCALENDAR
VERSION:2.0
PRODID:-//hacksw/handcal//NONSGML v1.0//EN
BEGIN:VEVENT
SUMMARY:ENT U15 A / GJ BAS MAINE B
UID:78d3229b-b43d-4c15-8379-4214b14bb6a1
DTSTART:20260502T130000Z
DTEND:20260502T220000Z
LOCATION:Localisation   
CATEGORIES:Sportif
STATUS:
URL;VALUE=URI:https://www.us-aron.com/evenements/2026/05/02/ent-u15-a-gj-bas-maine-b-2436719
END:VEVENT
END:VCALENDAR
