BEGIN:VCALENDAR
VERSION:2.0
PRODID:-//hacksw/handcal//NONSGML v1.0//EN
BEGIN:VEVENT
SUMMARY:ENT U15 B / JS MAGREHB
UID:b9b840d7-5e65-41a1-8676-e44485b826b1
DTSTART:20260502T130000Z
DTEND:20260502T220000Z
LOCATION:Localisation   
CATEGORIES:Sportif
STATUS:
URL;VALUE=URI:https://www.us-aron.com/evenements/2026/05/02/ent-u15-b-js-magrehb-2436721
END:VEVENT
END:VCALENDAR
