BEGIN:VCALENDAR
VERSION:2.0
PRODID:-//hacksw/handcal//NONSGML v1.0//EN
BEGIN:VEVENT
SUMMARY:GJ  HBG U15 F / ENT U15F
UID:ff3dfef1-9dab-4098-9160-7bbe35bd1810
DTSTART:20260502T090000Z
DTEND:20260502T220000Z
LOCATION:Localisation   
CATEGORIES:Sportif
STATUS:
URL;VALUE=URI:https://www.us-aron.com/evenements/2026/05/02/gj-hbg-u15-f-ent-u15f-2436717
END:VEVENT
END:VCALENDAR
