BEGIN:VCALENDAR
VERSION:2.0
PRODID:-//hacksw/handcal//NONSGML v1.0//EN
BEGIN:VEVENT
SUMMARY:AMBRIERES CIGNE / US AROON FUTSAL
UID:7d27db85-9271-4463-b429-eb6975333526
DTSTART:20260507T173000Z
DTEND:20260507T220000Z
LOCATION:Localisation   
CATEGORIES:Sportif
STATUS:
URL;VALUE=URI:https://www.us-aron.com/evenements/2026/05/07/ambrieres-cigne-us-aroon-futsal-2436716
END:VEVENT
END:VCALENDAR
