BEGIN:VCALENDAR
VERSION:2.0
PRODID:-//hacksw/handcal//NONSGML v1.0//EN
BEGIN:VEVENT
SUMMARY:ENT MONTSURS U13 F / ENT U13 F
UID:4dec0fef-e3a1-462c-bd19-dc2eebc89620
DTSTART:20260509T113000Z
DTEND:20260509T220000Z
LOCATION:Localisation   
CATEGORIES:Sportif
STATUS:
URL;VALUE=URI:https://www.us-aron.com/evenements/2026/05/09/ent-montsurs-u13-f-ent-u13-f-2436734
END:VEVENT
END:VCALENDAR
