BEGIN:VCALENDAR
VERSION:2.0
PRODID:-//hacksw/handcal//NONSGML v1.0//EN
BEGIN:VEVENT
SUMMARY:ENT U13 A / MARTIGNE A
UID:bbe17a20-0a20-40d0-81dc-0c39cb63d3be
DTSTART:20260509T113000Z
DTEND:20260509T220000Z
LOCATION:Localisation   
CATEGORIES:Sportif
STATUS:
URL;VALUE=URI:https://www.us-aron.com/evenements/2026/05/09/ent-u13-a-martigne-a-2436736
END:VEVENT
END:VCALENDAR
