BEGIN:VCALENDAR
VERSION:2.0
PRODID:-//hacksw/handcal//NONSGML v1.0//EN
BEGIN:VEVENT
SUMMARY:ENT U13 B /  LASSAY LE HORPS A
UID:a2eda74c-c653-421c-80dc-878c0446785a
DTSTART:20260509T113000Z
DTEND:20260509T220000Z
LOCATION:Localisation   
CATEGORIES:Sportif
STATUS:
URL;VALUE=URI:https://www.us-aron.com/evenements/2026/05/09/ent-u13-b-lassay-le-horps-a-2436738
END:VEVENT
END:VCALENDAR
