BEGIN:VCALENDAR
VERSION:2.0
PRODID:-//hacksw/handcal//NONSGML v1.0//EN
BEGIN:VEVENT
SUMMARY:ARON B / ARGENTRE A
UID:1a219963-25d8-4307-84d4-160664f5c793
DTSTART:20260510T130000Z
DTEND:20260510T220000Z
LOCATION:Localisation   
CATEGORIES:Sportif
STATUS:
URL;VALUE=URI:https://www.us-aron.com/evenements/2026/05/10/aron-b-argentre-a-2436727
END:VEVENT
END:VCALENDAR
