BEGIN:VCALENDAR
VERSION:2.0
PRODID:-//hacksw/handcal//NONSGML v1.0//EN
BEGIN:VEVENT
SUMMARY:ENT VETERANS MARCILLE ARON / ENT PRE EN PAIL
UID:e3964769-60a8-4c5c-820c-15bcde83adc2
DTSTART:20260510T073000Z
DTEND:20260510T220000Z
LOCATION:Localisation   
CATEGORIES:Sportif
STATUS:
URL;VALUE=URI:https://www.us-aron.com/evenements/2026/05/10/ent-veterans-marcille-aron-ent-pre-en-pail-2436733
END:VEVENT
END:VCALENDAR
