BEGIN:VCALENDAR
VERSION:2.0
PRODID:-//hacksw/handcal//NONSGML v1.0//EN
BEGIN:VEVENT
SUMMARY:ST GERMAIN LE FOUILLOUX A / ARON C
UID:5f210751-3276-48f1-8b06-51ad65218d10
DTSTART:20260510T130000Z
DTEND:20260510T220000Z
LOCATION:Localisation   
CATEGORIES:Sportif
STATUS:
URL;VALUE=URI:https://www.us-aron.com/evenements/2026/05/10/st-germain-le-fouilloux-a-aron-c-2436729
END:VEVENT
END:VCALENDAR
