BEGIN:VCALENDAR
VERSION:2.0
PRODID:-//hacksw/handcal//NONSGML v1.0//EN
BEGIN:VEVENT
SUMMARY:ST JEAN SUR MAYENNE A / ARON A
UID:4f56f506-14eb-412b-9f99-58f2d27ac32b
DTSTART:20260510T130000Z
DTEND:20260510T220000Z
LOCATION:Localisation   
CATEGORIES:Sportif
STATUS:
URL;VALUE=URI:https://www.us-aron.com/evenements/2026/05/10/st-jean-sur-mayenne-a-aron-a-2436725
END:VEVENT
END:VCALENDAR
