BEGIN:VCALENDAR
VERSION:2.0
PRODID:-//hacksw/handcal//NONSGML v1.0//EN
BEGIN:VEVENT
SUMMARY:LASSAY LE HORPS B / ARON B
UID:fbfb2515-b172-40c6-8ba5-4625491124b4
DTSTART:20260517T130000Z
DTEND:20260517T220000Z
LOCATION:Localisation   
CATEGORIES:Sportif
STATUS:
URL;VALUE=URI:https://www.us-aron.com/evenements/2026/05/17/lassay-le-horps-b-aron-b-2436744
END:VEVENT
END:VCALENDAR
