BEGIN:VCALENDAR
VERSION:2.0
PRODID:-//hacksw/handcal//NONSGML v1.0//EN
BEGIN:VEVENT
SUMMARY:MONTSURS E / ARON D
UID:3c1d4481-d1f5-4096-a4ec-205a7e416267
DTSTART:20260517T110000Z
DTEND:20260517T220000Z
LOCATION:Localisation   
CATEGORIES:Sportif
STATUS:
URL;VALUE=URI:https://www.us-aron.com/evenements/2026/05/17/montsurs-e-aron-d-2436747
END:VEVENT
END:VCALENDAR
