BEGIN:VCALENDAR
VERSION:2.0
PRODID:-//hacksw/handcal//NONSGML v1.0//EN
BEGIN:VEVENT
SUMMARY:US ARON A / LE BOURGNEUF A
UID:977a2642-6c4f-4981-89af-44c9f9e78285
DTSTART:20260517T130000Z
DTEND:20260517T220000Z
LOCATION:Localisation   
CATEGORIES:Sportif
STATUS:
URL;VALUE=URI:https://www.us-aron.com/evenements/2026/05/17/us-aron-a-le-bourgneuf-a-2436743
END:VEVENT
END:VCALENDAR
