BEGIN:VCALENDAR
VERSION:2.0
PRODID:-//hacksw/handcal//NONSGML v1.0//EN
BEGIN:VEVENT
SUMMARY:US ARON C / ST GEMMES SPORT A
UID:ad25ecc1-8ab0-45c9-97c4-62f04a06fa9f
DTSTART:20260517T103000Z
DTEND:20260517T220000Z
LOCATION:Localisation   
CATEGORIES:Sportif
STATUS:
URL;VALUE=URI:https://www.us-aron.com/evenements/2026/05/17/us-aron-c-st-gemmes-sport-a-2436745
END:VEVENT
END:VCALENDAR
