BEGIN:VCALENDAR
VERSION:2.0
PRODID:-//hacksw/handcal//NONSGML v1.0//EN
BEGIN:VEVENT
SUMMARY:US ARON FUTSAL / PAYS DE JUHEL C
UID:1e537e77-30f8-4cf4-8341-559bb1c66054
DTSTART:20260521T180000Z
DTEND:20260521T220000Z
LOCATION:Localisation   
CATEGORIES:Sportif
STATUS:
URL;VALUE=URI:https://www.us-aron.com/evenements/2026/05/21/us-aron-futsal-pays-de-juhel-c-2436740
END:VEVENT
END:VCALENDAR
