BEGIN:VCALENDAR
VERSION:2.0
PRODID:-//hacksw/handcal//NONSGML v1.0//EN
BEGIN:VEVENT
SUMMARY:TOURNOI VETERANS
UID:e5bb3411-1847-44d6-abe5-d9af36dec9de
DTSTART:20260522T173000Z
DTEND:20260522T220000Z
LOCATION:Localisation   
CATEGORIES:Sportif
STATUS:
URL;VALUE=URI:https://www.us-aron.com/evenements/2026/05/22/tournoi-veterans-2436761
END:VEVENT
END:VCALENDAR
