BEGIN:VCALENDAR
VERSION:2.0
PRODID:-//hacksw/handcal//NONSGML v1.0//EN
BEGIN:VEVENT
SUMMARY:ENT AMBRIERES A / ENT U13 A
UID:0c23a0d1-673b-430d-86f1-b6e87435bbf6
DTSTART:20260523T113000Z
DTEND:20260523T220000Z
LOCATION:Localisation   
CATEGORIES:Sportif
STATUS:
URL;VALUE=URI:https://www.us-aron.com/evenements/2026/05/23/ent-ambrieres-a-ent-u13-a-2436751
END:VEVENT
END:VCALENDAR
