BEGIN:VCALENDAR
VERSION:2.0
PRODID:-//hacksw/handcal//NONSGML v1.0//EN
BEGIN:VEVENT
SUMMARY:ENT U15 A / ST GERMAIN LA VALLEE
UID:5e953662-db4b-4d00-b89b-271c6ef146b7
DTSTART:20260523T130000Z
DTEND:20260523T220000Z
LOCATION:Localisation   
CATEGORIES:Sportif
STATUS:
URL;VALUE=URI:https://www.us-aron.com/evenements/2026/05/23/ent-u15-a-st-germain-la-vallee-2436758
END:VEVENT
END:VCALENDAR
