BEGIN:VCALENDAR
VERSION:2.0
PRODID:-//hacksw/handcal//NONSGML v1.0//EN
BEGIN:VEVENT
SUMMARY:ENT U15 B / US LAVAL A
UID:1a027e14-8592-4cc3-9104-4f78359e5555
DTSTART:20260523T130000Z
DTEND:20260523T220000Z
LOCATION:Localisation   
CATEGORIES:Sportif
STATUS:
URL;VALUE=URI:https://www.us-aron.com/evenements/2026/05/23/ent-u15-b-us-laval-a-2436759
END:VEVENT
END:VCALENDAR
