BEGIN:VCALENDAR
VERSION:2.0
PRODID:-//hacksw/handcal//NONSGML v1.0//EN
BEGIN:VEVENT
SUMMARY:GJ DE L'OSCENCE A / ENT U17
UID:f8a04fda-b14d-418f-86b9-58b6a123ded4
DTSTART:20260522T220000Z
DTEND:20260523T220000Z
LOCATION:Localisation   
CATEGORIES:Sportif
STATUS:
URL;VALUE=URI:https://www.us-aron.com/evenements/2026/05/23/gj-de-loscence-a-ent-u17-2436757
END:VEVENT
END:VCALENDAR
