BEGIN:VCALENDAR
VERSION:2.0
PRODID:-//hacksw/handcal//NONSGML v1.0//EN
BEGIN:VEVENT
SUMMARY:MERAL COSSE B U15F  / ENT U15 F
UID:8c1536e1-b344-410a-b176-c482079d0302
DTSTART:20260523T113000Z
DTEND:20260523T220000Z
LOCATION:Localisation   
CATEGORIES:Sportif
STATUS:
URL;VALUE=URI:https://www.us-aron.com/evenements/2026/05/23/meral-cosse-b-u15f-ent-u15-f-2436754
END:VEVENT
END:VCALENDAR
