BEGIN:VCALENDAR
VERSION:2.0
PRODID:-//hacksw/handcal//NONSGML v1.0//EN
BEGIN:VEVENT
SUMMARY:TOURNOI SENIORS US ARON
UID:8a263f73-e358-406e-b50c-435b864c2a8f
DTSTART:20260525T113000Z
DTEND:20260525T220000Z
LOCATION:Localisation   
CATEGORIES:Sportif
STATUS:
URL;VALUE=URI:https://www.us-aron.com/evenements/2026/05/25/tournoi-seniors-us-aron-2436765
END:VEVENT
END:VCALENDAR
