BEGIN:VCALENDAR
VERSION:2.0
PRODID:-//hacksw/handcal//NONSGML v1.0//EN
BEGIN:VEVENT
SUMMARY:TOURNOI US ARON U9 U11 U13
UID:8337702d-3b0d-442d-9718-5130ad25d1d4
DTSTART:20260525T070000Z
DTEND:20260525T110000Z
LOCATION:Localisation   
CATEGORIES:Sportif
STATUS:
URL;VALUE=URI:https://www.us-aron.com/evenements/2026/05/25/tournoi-us-aron-u9-u11-u13-2436762
END:VEVENT
END:VCALENDAR
