BEGIN:VCALENDAR
VERSION:2.0
PRODID:-//hacksw/handcal//NONSGML v1.0//EN
BEGIN:VEVENT
SUMMARY:ASSEMBLEE  GENERALE US ARON
UID:f782613c-0d5d-4518-a98d-61d8baf56e3d
DTSTART:20260612T180000Z
DTEND:20260612T220000Z
LOCATION:Localisation   
CATEGORIES:Administratif
STATUS:
URL;VALUE=URI:https://www.us-aron.com/evenements/2026/06/12/assemblee-generale-us-aron-2442582
END:VEVENT
END:VCALENDAR
